
BEGIN:VCALENDAR
VERSION:2.0
PRODID:-//Ville de Muzillac - ECPv5.10.0//NONSGML v1.0//EN
CALSCALE:GREGORIAN
METHOD:PUBLISH
X-WR-CALNAME:Ville de Muzillac
X-ORIGINAL-URL:https://www.muzillac.fr
X-WR-CALDESC:évènements pour Ville de Muzillac
BEGIN:VTIMEZONE
TZID:UTC
BEGIN:STANDARD
TZOFFSETFROM:+0000
TZOFFSETTO:+0000
TZNAME:UTC
DTSTART:20260101T000000
END:STANDARD
END:VTIMEZONE
BEGIN:VEVENT
DTSTART;TZID=UTC:20260328T200000
DTEND;TZID=UTC:20260328T230000
DTSTAMP:20260424T011759
CREATED:20260119T150538Z
LAST-MODIFIED:20260119T150635Z
UID:13713-1774728000-1774738800@www.muzillac.fr
SUMMARY:Le Vieux Couvent - LITHA ET FLEUVES
DESCRIPTION:FEST NOZ \nLITHA\nAlliance de musiciennes du Pays de Redon et du Poitou\, Litha crée un univers à la fois dynamique et délicat\, où le chant à répondre est mis à l’honneur. \nFLEUVES\nEn bientôt dix années d’existence et deux albums à leur actif\, Fleuves est devenu un des porte-étendards des nouvelles musiques bretonnes.\nLe trio a su intégrer la culture électronique ou les influences jazz/rock à la richesse culturelle bretonne pour créer une musique d’ancrage ouverte sur le monde\, toujours liée à la danse. Le groupe arrive ainsi à donner un nouveau regard sur cette culture de transe\, expérience/performance collective festive et solennelle assez inédite. \n  \nINTERVENTIONS DE L’ÉCOLE MUNICIPALE DE MUSIQUE \n  \nBuvette et petite restauration sur place\nTout public\nDurée 3h\nTarifs\nRéduit / Abonné : 8€\nAchat Anticipé : 11€\nSur place : 14€ \n  \nRéservez votre place ici
URL:https://www.muzillac.fr/event/le-vieux-couvent-litha-et-fleuves/
END:VEVENT
END:VCALENDAR