
BEGIN:VCALENDAR
VERSION:2.0
PRODID:-//Ville de Muzillac - ECPv5.10.0//NONSGML v1.0//EN
CALSCALE:GREGORIAN
METHOD:PUBLISH
X-WR-CALNAME:Ville de Muzillac
X-ORIGINAL-URL:https://www.muzillac.fr
X-WR-CALDESC:évènements pour Ville de Muzillac
BEGIN:VTIMEZONE
TZID:UTC
BEGIN:STANDARD
TZOFFSETFROM:+0000
TZOFFSETTO:+0000
TZNAME:UTC
DTSTART:20260101T000000
END:STANDARD
END:VTIMEZONE
BEGIN:VEVENT
DTSTART;TZID=UTC:20260517T170000
DTEND;TZID=UTC:20260517T183000
DTSTAMP:20260423T205321
CREATED:20260327T134719Z
LAST-MODIFIED:20260331T090832Z
UID:13884-1779037200-1779042600@www.muzillac.fr
SUMMARY:Fo'Plafonds - Le Vieux Couvent
DESCRIPTION:Laissez-vous porter par cet orchestre de brocante et son obsession de la récupération juste.\nLe bruit devient son\, le bruit devient note\, le bruit devient rythme. Prêtez attention\, laissez vos oreilles se perdre dans ce véritable fourbi musical et vos yeux se faire avoir par des sons trop souvent ignorés.\nVous êtes prêts ? Alors n’hésitez plus\, entrez dans leur univers… \n  \nAprès le spectacle\, une restauration et une buvette sera mise à votre disposition\, restez avec nous pour revenir sur les temps forts de la saison !
URL:https://www.muzillac.fr/event/foplafonds-le-vieux-couvent/
END:VEVENT
END:VCALENDAR